BEGIN:VCALENDAR
VERSION:2.0
PRODID:-//Fridays for Future Duisburg - ECPv6.15.20//NONSGML v1.0//EN
CALSCALE:GREGORIAN
METHOD:PUBLISH
X-WR-CALNAME:Fridays for Future Duisburg
X-ORIGINAL-URL:https://fff-du.de
X-WR-CALDESC:Veranstaltungen für Fridays for Future Duisburg
REFRESH-INTERVAL;VALUE=DURATION:PT1H
X-Robots-Tag:noindex
X-PUBLISHED-TTL:PT1H
BEGIN:VTIMEZONE
TZID:Europe/Berlin
BEGIN:DAYLIGHT
TZOFFSETFROM:+0100
TZOFFSETTO:+0200
TZNAME:CEST
DTSTART:20250330T010000
END:DAYLIGHT
BEGIN:STANDARD
TZOFFSETFROM:+0200
TZOFFSETTO:+0100
TZNAME:CET
DTSTART:20251026T010000
END:STANDARD
BEGIN:DAYLIGHT
TZOFFSETFROM:+0100
TZOFFSETTO:+0200
TZNAME:CEST
DTSTART:20260329T010000
END:DAYLIGHT
BEGIN:STANDARD
TZOFFSETFROM:+0200
TZOFFSETTO:+0100
TZNAME:CET
DTSTART:20261025T010000
END:STANDARD
BEGIN:DAYLIGHT
TZOFFSETFROM:+0100
TZOFFSETTO:+0200
TZNAME:CEST
DTSTART:20270328T010000
END:DAYLIGHT
BEGIN:STANDARD
TZOFFSETFROM:+0200
TZOFFSETTO:+0100
TZNAME:CET
DTSTART:20271031T010000
END:STANDARD
END:VTIMEZONE
BEGIN:VEVENT
DTSTART;TZID=Europe/Berlin:20260419T170000
DTEND;TZID=Europe/Berlin:20260419T203000
DTSTAMP:20260420T150354
CREATED:20260419T120637Z
LAST-MODIFIED:20260419T120639Z
UID:1868-1776618000-1776630600@fff-du.de
SUMMARY:Offenes Plenum mit Banner malen
DESCRIPTION:🔥 Nächsten Donnerstag wollen wir in einem offenen Plenum mit euch zusammen das Banner für den 24.04. bemalen. Das Motto ist „Alle fürs Klima“\, die Demo findet anlässlich des bundesweiten Gas-Aktionstag statt. \n\n\n\n🎨 Ihr müsst dafür nicht unbedingt künstlerisch begabt sein \n\n\n\n🤍 Kommt gern vorbei\, bringt Freund:innen mit und gern auch Farben.
URL:https://fff-du.de/event/offenes-plenum-mit-banner-malen/
LOCATION:Kulturzentrum Stapeltor\, Stapeltor 6\, Duisburg\, Germany
ATTACH;FMTTYPE=image/png:https://fff-du.de/wp-content/uploads/2026/04/Offenes-plenum-dui.png
END:VEVENT
END:VCALENDAR