BEGIN:VCALENDAR
VERSION:2.0
PRODID:-//Fridays for Future Duisburg - ECPv6.15.20//NONSGML v1.0//EN
CALSCALE:GREGORIAN
METHOD:PUBLISH
X-ORIGINAL-URL:https://fff-du.de
X-WR-CALDESC:Veranstaltungen für Fridays for Future Duisburg
REFRESH-INTERVAL;VALUE=DURATION:PT1H
X-Robots-Tag:noindex
X-PUBLISHED-TTL:PT1H
BEGIN:VTIMEZONE
TZID:Europe/Berlin
BEGIN:DAYLIGHT
TZOFFSETFROM:+0100
TZOFFSETTO:+0200
TZNAME:CEST
DTSTART:20210328T010000
END:DAYLIGHT
BEGIN:STANDARD
TZOFFSETFROM:+0200
TZOFFSETTO:+0100
TZNAME:CET
DTSTART:20211031T010000
END:STANDARD
BEGIN:DAYLIGHT
TZOFFSETFROM:+0100
TZOFFSETTO:+0200
TZNAME:CEST
DTSTART:20220327T010000
END:DAYLIGHT
BEGIN:STANDARD
TZOFFSETFROM:+0200
TZOFFSETTO:+0100
TZNAME:CET
DTSTART:20221030T010000
END:STANDARD
BEGIN:DAYLIGHT
TZOFFSETFROM:+0100
TZOFFSETTO:+0200
TZNAME:CEST
DTSTART:20230326T010000
END:DAYLIGHT
BEGIN:STANDARD
TZOFFSETFROM:+0200
TZOFFSETTO:+0100
TZNAME:CET
DTSTART:20231029T010000
END:STANDARD
END:VTIMEZONE
BEGIN:VEVENT
DTSTART;TZID=Europe/Berlin:20220521T000000
DTEND;TZID=Europe/Berlin:20220521T235959
DTSTAMP:20260422T014027
CREATED:20220415T163740Z
LAST-MODIFIED:20220512T190948Z
UID:1313-1653091200-1653177599@fff-du.de
SUMMARY:Demo in Köln
DESCRIPTION:Am 21. Mai\, also dem Samstag nach der Landtagswahl\, ist eine große Demo in Köln geplant.
URL:https://fff-du.de/event/demo-in-duesseldorf-anreise/
ATTACH;FMTTYPE=:
END:VEVENT
END:VCALENDAR