BEGIN:VCALENDAR
VERSION:2.0
PRODID:-//Fridays for Future Duisburg - ECPv6.15.20//NONSGML v1.0//EN
CALSCALE:GREGORIAN
METHOD:PUBLISH
X-WR-CALNAME:Fridays for Future Duisburg
X-ORIGINAL-URL:https://fff-du.de
X-WR-CALDESC:Veranstaltungen für Fridays for Future Duisburg
REFRESH-INTERVAL;VALUE=DURATION:PT1H
X-Robots-Tag:noindex
X-PUBLISHED-TTL:PT1H
BEGIN:VTIMEZONE
TZID:Europe/Berlin
BEGIN:DAYLIGHT
TZOFFSETFROM:+0100
TZOFFSETTO:+0200
TZNAME:CEST
DTSTART:20210328T010000
END:DAYLIGHT
BEGIN:STANDARD
TZOFFSETFROM:+0200
TZOFFSETTO:+0100
TZNAME:CET
DTSTART:20211031T010000
END:STANDARD
BEGIN:DAYLIGHT
TZOFFSETFROM:+0100
TZOFFSETTO:+0200
TZNAME:CEST
DTSTART:20220327T010000
END:DAYLIGHT
BEGIN:STANDARD
TZOFFSETFROM:+0200
TZOFFSETTO:+0100
TZNAME:CET
DTSTART:20221030T010000
END:STANDARD
BEGIN:DAYLIGHT
TZOFFSETFROM:+0100
TZOFFSETTO:+0200
TZNAME:CEST
DTSTART:20230326T010000
END:DAYLIGHT
BEGIN:STANDARD
TZOFFSETFROM:+0200
TZOFFSETTO:+0100
TZNAME:CET
DTSTART:20231029T010000
END:STANDARD
END:VTIMEZONE
BEGIN:VEVENT
DTSTART;TZID=Europe/Berlin:20220516T000000
DTEND;TZID=Europe/Berlin:20220520T235959
DTSTAMP:20260422T031722
CREATED:20220331T160000Z
LAST-MODIFIED:20220512T191140Z
UID:1279-1652659200-1653091199@fff-du.de
SUMMARY:Public Climate School
DESCRIPTION:Wer ist besonders von der Klimakrise betroffen und was bedeutet das für unsere politische Arbeit? Warum inszeniert sich G7 als der Klimaretter und was steckt wirklich hinter der grünen Fassade? Was können wir aus internationalen sozialen Kämpfen lernen?Diesen und vielen weiteren Fragen widmen wir uns während der Public Climate School vom 16.05. bis 20.05. am Campus Duisburg. Jeden Tag gibt es Vorträge\, Workshops und Raum\, sich auszutauschen. Zum Abschluss gehen wir am Freitag gemeinsam auf die Straße\, um für Klimaschutz und soziale Gerechtigkeit zu demonstrieren.In dieser Woche machen wir aus den Slogans „Klimagerechtigkeit“ und „Kämpfe verbinden“ Praxis\, indem wir die Klimakrise in Verbindung mit vielen anderen Kämpfen beleuchten und daraus Antworten für eine sozial und ökologisch gerechte Welt entwickeln. \n\n\n\n\nZum Stundenplan\n\n\n\n\nEs gibt Veranstaltungen von Montag bis Freitag. Abgeschlossen wird die Woche mit einer gemeinsamen Demo am Freitagnachmittag. Die Veranstaltungen sind offen für alle\, nicht nur Studierende! \n\n\n\n\n\n\n\nWeitere Informationen werden wir hier und auf den üblichen Kanälen veröffentlichen. Schaut gerne auch mal bei den Students for Future Duisburg vorbei!
URL:https://fff-du.de/event/public-climate-school-2022/
ATTACH;FMTTYPE=:
END:VEVENT
BEGIN:VEVENT
DTSTART;TZID=Europe/Berlin:20220520T170000
DTEND;TZID=Europe/Berlin:20220520T170000
DTSTAMP:20260422T031722
CREATED:20220408T171409Z
LAST-MODIFIED:20220414T102632Z
UID:1281-1653066000-1653066000@fff-du.de
SUMMARY:Demo zur Public Climate School
DESCRIPTION:Vom 16. bis 20. Mai findet die Public Climate School statt. Dazu wird es auch bei uns an der Uni\, am Campus Duisburg\, einige spannende Veranstaltungen geben. Neben FfF stehen wird dies vor allem von den Students for Future organisiert. \n\n\n\nZum Abschluss der Public Climate School ist eine Demo geplant. Los geht es am Freitag\, 20.05.\, um 17 Uhr auf der Königstraße. Achtung! Die Demo endet am Universitätscampus. Die genaue Route könnt ihr dem Bild entnehmen (Alternativtext vorhanden):
URL:https://fff-du.de/event/demo-zur-pcs/
ATTACH;FMTTYPE=:
END:VEVENT
END:VCALENDAR