BEGIN:VCALENDAR
VERSION:2.0
PRODID:-//Fridays for Future Duisburg - ECPv6.15.20//NONSGML v1.0//EN
CALSCALE:GREGORIAN
METHOD:PUBLISH
X-WR-CALNAME:Fridays for Future Duisburg
X-ORIGINAL-URL:https://fff-du.de
X-WR-CALDESC:Veranstaltungen für Fridays for Future Duisburg
REFRESH-INTERVAL;VALUE=DURATION:PT1H
X-Robots-Tag:noindex
X-PUBLISHED-TTL:PT1H
BEGIN:VTIMEZONE
TZID:Europe/Berlin
BEGIN:DAYLIGHT
TZOFFSETFROM:+0100
TZOFFSETTO:+0200
TZNAME:CEST
DTSTART:20210328T010000
END:DAYLIGHT
BEGIN:STANDARD
TZOFFSETFROM:+0200
TZOFFSETTO:+0100
TZNAME:CET
DTSTART:20211031T010000
END:STANDARD
BEGIN:DAYLIGHT
TZOFFSETFROM:+0100
TZOFFSETTO:+0200
TZNAME:CEST
DTSTART:20220327T010000
END:DAYLIGHT
BEGIN:STANDARD
TZOFFSETFROM:+0200
TZOFFSETTO:+0100
TZNAME:CET
DTSTART:20221030T010000
END:STANDARD
BEGIN:DAYLIGHT
TZOFFSETFROM:+0100
TZOFFSETTO:+0200
TZNAME:CEST
DTSTART:20230326T010000
END:DAYLIGHT
BEGIN:STANDARD
TZOFFSETFROM:+0200
TZOFFSETTO:+0100
TZNAME:CET
DTSTART:20231029T010000
END:STANDARD
END:VTIMEZONE
BEGIN:VEVENT
DTSTART;TZID=Europe/Berlin:20220423T000000
DTEND;TZID=Europe/Berlin:20220423T235959
DTSTAMP:20260423T202731
CREATED:20220331T113555Z
LAST-MODIFIED:20220412T065830Z
UID:1284-1650672000-1650758399@fff-du.de
SUMMARY:Anreise zur Großdemo in Lützerath
DESCRIPTION:💛 Busplätze für die Fahrt nach Lützerath ab sofort buchbar💛 \n\n\n\n📢 Am 23.04. findet in Lützerath die nächste Großdemonstration gegen den Kohleabbau statt. Veraltete Gesetze haben zu einem Gerichtsurteil geführt\, das Lützi akut in Gefahr bringt. Mehr Infos findet ihr auf: www.luetzerathlebt.info \n\n\n\n🚌 Zur Demonstration werden wir gemeinsam mit einem Reisebus anreisen. Treffpunkt ist um 8:00 Uhr vor dem Duisburger Hbf. Zurück in Duisburg sind wir gegen 19:30 Uhr. \n\n\n\n🏘️ Wir haben die Zeiten so gewählt\, damit auch genug Zeit bleibt\, vor der Demo das Dorf zu besuchen. \n\n\n\n💶 Um möglichst allen Menschen eine Anreise zu ermöglichen\, wollen wir die Fahrt solidarisch finanzieren. Das bedeutet\, dass jede*r so viel gibt\, wie er/sie kann. Zur Orientierung: Der Selbstkostenpreis läge bei knapp 15€ pro Person. \n\n\n\nAnmeldung erforderlich! \n\n\n\n✉ Anmelden könnt ihr euch ab sofort auf folgenden Wegen: \n\n\n\nInstagram: @fridaysforfuture_duisburgE-Mail: info (at) fff-du.de \n\n\n\nBitte teilt uns bei der Anmeldung euren Namen und eine Telefonnummer mit.
URL:https://fff-du.de/event/anreise-luetzerath/
ATTACH;FMTTYPE=:
END:VEVENT
END:VCALENDAR