BEGIN:VCALENDAR
VERSION:2.0
PRODID:-//Fridays for Future Duisburg - ECPv6.15.20//NONSGML v1.0//EN
CALSCALE:GREGORIAN
METHOD:PUBLISH
X-ORIGINAL-URL:https://fff-du.de
X-WR-CALDESC:Veranstaltungen für Fridays for Future Duisburg
REFRESH-INTERVAL;VALUE=DURATION:PT1H
X-Robots-Tag:noindex
X-PUBLISHED-TTL:PT1H
BEGIN:VTIMEZONE
TZID:Europe/Berlin
BEGIN:DAYLIGHT
TZOFFSETFROM:+0100
TZOFFSETTO:+0200
TZNAME:CEST
DTSTART:20210328T010000
END:DAYLIGHT
BEGIN:STANDARD
TZOFFSETFROM:+0200
TZOFFSETTO:+0100
TZNAME:CET
DTSTART:20211031T010000
END:STANDARD
BEGIN:DAYLIGHT
TZOFFSETFROM:+0100
TZOFFSETTO:+0200
TZNAME:CEST
DTSTART:20220327T010000
END:DAYLIGHT
BEGIN:STANDARD
TZOFFSETFROM:+0200
TZOFFSETTO:+0100
TZNAME:CET
DTSTART:20221030T010000
END:STANDARD
BEGIN:DAYLIGHT
TZOFFSETFROM:+0100
TZOFFSETTO:+0200
TZNAME:CEST
DTSTART:20230326T010000
END:DAYLIGHT
BEGIN:STANDARD
TZOFFSETFROM:+0200
TZOFFSETTO:+0100
TZNAME:CET
DTSTART:20231029T010000
END:STANDARD
END:VTIMEZONE
BEGIN:VEVENT
DTSTART;TZID=Europe/Berlin:20220325T160000
DTEND;TZID=Europe/Berlin:20220325T160000
DTSTAMP:20260425T172639
CREATED:20220125T140000Z
LAST-MODIFIED:20220321T152326Z
UID:1230-1648224000-1648224000@fff-du.de
SUMMARY:Globaler Klimastreik 25.03.
DESCRIPTION:🌎Der nächste globale Klimastreik steht an! 🌎 \n\n\n\n📆Am 25.03.2022 steht der bereits zehnte globale Klimastreik an. Natürlich beteiligen wir uns auch in Duisburg an diesem. Die aktuelle Regierung tut immer noch nicht genug gegen die Klimakrise. Ein bisschen mehr Klimaschutz #ReichtHaltNicht\, wir brauchen Klimagerechtigkeit. \n\n\n\nDas international abgestimmte Motto für den Streiktag lautet #PeopleNotProfit. \n\n\n\n📍In Duisburg startet die Demo um 16 Uhr in der Königstraße vor dem Forum. Als Ausdruck des bunten Protests wird der Duisburger Demozug aus drei verschiedenen Blöcken aufgebaut sein. Neben dem vorangehenden allgemeinen Klimablock organisieren einige Teile der Klimabewegung wie beispielsweise die Students for Future\, Ende Gelände und das Offene Klimatreffen Duisburg einen eigenen Demoblock\, in dem sie vor allem Kapitalismuskritik in den Vordergrund stellen möchten. Anders als bei bisherigen Demos von Fridays for Future wird es darüber hinaus einen Parteienblock geben\, in dem auch die Banner und Flaggen von politischen Parteien gerne gesehen sind. \n\n\n\n😷Auf der gesamten Demo gilt Maskenpflicht. Wir empfehlen euch zusätzlich\, euch vor Besuch der Demo auf Corona testen zu lassen.
URL:https://fff-du.de/event/globaler-klimastreik-25-03/
CATEGORIES:Demos
ATTACH;FMTTYPE=:
END:VEVENT
END:VCALENDAR